BEGIN:VCALENDAR
VERSION:2.0
PRODID:Indio, CA Calendar Creator
METHOD:PUBLISH
BEGIN:VEVENT
DTSTAMP:20260406T130035
DTSTART:20260506T170000
DTEND:20260506T235900
SUMMARY:City Council Meeting
DESCRIPTION:The City Council meets for ceremonial items, consent calendar and administrative items. Study sessions and closed sessions are typically scheduled before 5:00 p.m. so check the agenda for exact times. Open sessions are held at the Indio Council Chamber, 3rd floor,&nbsp; 100 Civic Center Drive, Indio, CA 92201.
X-ALT-DESC;FMTTYPE=text/html:The City Council meets for ceremonial items, consent calendar and administrative items. Study sessions and closed sessions are typically scheduled before 5:00 p.m. so check the agenda for exact times. Open sessions are held at the Indio Council Chamber, 3rd floor,&nbsp; 100 Civic Center Drive, Indio, CA 92201.
LOCATION:City Hall Council Chambers\, 100 Civic Center Drive Indio\, California 92201
CLASS:PUBLIC
END:VEVENT
END:VCALENDAR
