BEGIN:VCALENDAR
VERSION:2.0
PRODID:Indio, CA Calendar Creator
METHOD:PUBLISH
BEGIN:VEVENT
DTSTAMP:20260310T140830
DTSTART:20260424T000000
DTEND:20260426T235900
SUMMARY:Stagecoach Festival
DESCRIPTION:For more infomation:&nbsp;<a href="https://stagecoachfestival.com/" target="_blank" rel="noopener">https://stagecoachfestival.com/</a>
X-ALT-DESC;FMTTYPE=text/html:For more infomation:&nbsp;<a href="https://stagecoachfestival.com/" target="_blank" rel="noopener">https://stagecoachfestival.com/</a>
LOCATION:Empire Polo Grounds\, 81-800 51st Ave Indio\, California 92201
CLASS:PUBLIC
END:VEVENT
END:VCALENDAR
