BEGIN:VCALENDAR
VERSION:2.0
PRODID:Indio, CA Calendar Creator
METHOD:PUBLISH
BEGIN:VEVENT
DTSTAMP:20260320T144636
DTSTART:20260403T110000
DTEND:20260403T113000
SUMMARY:Ribbon-Cutting Ceremony: The Vintage Coffee House’s 10-year anniversary
DESCRIPTION:<p dir="auto">We’re excited to celebrate The Vintage Coffee House’s 10-year anniversary in Indio! Join us for a special ribbon-cutting ceremony as we honor their history and continued commitment to our community🤩</p><p dir="auto">📍 49990 Jefferson St.&nbsp;<a href="https://www.facebook.com/hashtag/130" highlight-facebook-hashtag="" highlight-facebook-facebook"="" target="_blank" rel="noopener noreferrer">#130</a><br>🗓️ Friday, April 3, 2026<br>⏰ 11 a.m.</p>
X-ALT-DESC;FMTTYPE=text/html:<p dir="auto">We’re excited to celebrate The Vintage Coffee House’s 10-year anniversary in Indio! Join us for a special ribbon-cutting ceremony as we honor their history and continued commitment to our community🤩</p><p dir="auto">📍 49990 Jefferson St.&nbsp;<a href="https://www.facebook.com/hashtag/130" highlight-facebook-hashtag="" highlight-facebook-facebook"="" target="_blank" rel="noopener noreferrer">#130</a><br>🗓️ Friday, April 3, 2026<br>⏰ 11 a.m.</p>
LOCATION:The Vintage Coffee House\, 49990 Jefferson St. #130 Indio\, California 92201
CLASS:PUBLIC
END:VEVENT
END:VCALENDAR
