BEGIN:VCALENDAR
VERSION:2.0
PRODID:Indio, CA Calendar Creator
METHOD:PUBLISH
BEGIN:VEVENT
DTSTAMP:20260408T115939
DTSTART:20260415T173000
DTEND:20260415T220000
SUMMARY:CHELLA
DESCRIPTION:<p></p><p>CHELLA Presents: Ambiente y Cafe x Mas Vida Market a Tropicoqueta Experience 🧡<br><br>What to Expect ?<br>AYC DJ’s @luis.alejndro @meruw_ @thearisteo<br>Live Band 🥁<br>Tropicoqueta Photobooth 📸🌺<br>Cafecito ☕️<br>Mercado 💐<br>Food Vendors 🌮<br><br>FREE &amp; ALL AGES<br><br>📍: Center Stage - 82881 Miles Ave, Indio, CA 92201<br>⏰: CHELLA Starts at 5:30 PM — AYC will be from 7:30 PM to 10 PM 🎧<br>📆: April 15th, 2026</p>
X-ALT-DESC;FMTTYPE=text/html:<p></p><p>CHELLA Presents: Ambiente y Cafe x Mas Vida Market a Tropicoqueta Experience 🧡<br><br>What to Expect ?<br>AYC DJ’s @luis.alejndro @meruw_ @thearisteo<br>Live Band 🥁<br>Tropicoqueta Photobooth 📸🌺<br>Cafecito ☕️<br>Mercado 💐<br>Food Vendors 🌮<br><br>FREE &amp; ALL AGES<br><br>📍: Center Stage - 82881 Miles Ave, Indio, CA 92201<br>⏰: CHELLA Starts at 5:30 PM — AYC will be from 7:30 PM to 10 PM 🎧<br>📆: April 15th, 2026</p>
LOCATION:Center Stage\, 82881 Miles Ave\, Indio\, CA 92201 Indio\, California 92201
CLASS:PUBLIC
END:VEVENT
END:VCALENDAR
